Workbook

Sheet Facturas
A1: Fecha | B1: Factura | C1: Vendedor | D1: Cliente | E1: Municipio | F1: Línea | G1: Valor
A2: 46023 | B2: FV-2026-0001 | C2: Daniela Gómez | D2: Colegio La Salle de Envigado | E2: Envigado | F2: Papelería y dotación | G2: 509000
A3: 46023 | B3: FV-2026-0002 | C3: Julián Pérez | D3: Supermercado Mi Tienda Sabaneta | E3: Sabaneta | F3: Desechables | G3: 479000
A4: 46023 | B4: FV-2026-0003 | C4: Julián Pérez | D4: Distribuidora Sur Insumos S.A.S. | E4: Itagüí | F4: Papelería y dotación | G4: 403000
A5: 46023 | B5: FV-2026-0004 | C5: Santiago Vélez | D5: Restaurante La Provincia | E5: Medellín | F5: Aseo institucional | G5: 581000
A6: 46024 | B6: FV-2026-0005 | C6: Camila Ruiz | D6: Industrias Metálicas del Norte S.A.S. | E6: Copacabana | F6: Químicos | G6: 1454000
A7: 46024 | B7: FV-2026-0006 | C7: Daniela Gómez | D7: Colegio San Ignacio de Envigado | E7: Envigado | F7: Aseo institucional | G7: 865000
A8: 46025 | B8: FV-2026-0007 | C8: Camila Ruiz | D8: Supermercado Confamiliar Norte | E8: Bello | F8: Papelería y dotación | G8: 400000
A9: 46025 | B9: FV-2026-0008 | C9: Daniela Gómez | D9: Clínica Oriente Rionegro | E9: Rionegro | F9: Aseo institucional | G9: 762000
A10: 46027 | B10: FV-2026-0009 | C10: Julián Pérez | D10: Industrias Químicas de Caldas | E10: Caldas | F10: Aseo institucional | G10: 491000
A11: 46027 | B11: FV-2026-0010 | C11: Santiago Vélez | D11: Hotel Diez Categoría Colombia | E11: Medellín | F11: Desechables | G11: 698000
A12: 46027 | B12: FV-2026-0011 | C12: Santiago Vélez | D12: Hotel Boutique Patio del Mundo | E12: Medellín | F12: Químicos | G12: 1192000
A13: 46027 | B13: FV-2026-0012 | C13: Santiago Vélez | D13: Hotel Nutibara | E13: Medellín | F13: Desechables | G13: 676000
... A407: 46265 | B407: FV-2026-0406 | C407: Santiago Vélez | D407: Restaurante Mondongo's del Poblado | E407: Medellín | F407: Aseo institucional | G407: 900000

Sheet Resumen
A1: Total de ventas por mes (COP, sin IVA)
A3: Mes | B3: Total
A4: Enero | B4: =SUMIFS(Facturas!$G$2:$G$407,Facturas!$A$2:$A$407,">="&DATE(2026,1,1),Facturas!$A$2:$A$407,"<"&DATE(2026,2,1))
A5: Febrero | B5: =SUMIFS(Facturas!$G$2:$G$407,Facturas!$A$2:$A$407,">="&DATE(2026,2,1),Facturas!$A$2:$A$407,"<"&DATE(2026,3,1))
A6: Marzo | B6: =SUMIFS(Facturas!$G$2:$G$407,Facturas!$A$2:$A$407,">="&DATE(2026,3,1),Facturas!$A$2:$A$407,"<"&DATE(2026,4,1))
A7: Abril | B7: =SUMIFS(Facturas!$G$2:$G$407,Facturas!$A$2:$A$407,">="&DATE(2026,4,1),Facturas!$A$2:$A$407,"<"&DATE(2026,5,1))
A8: Mayo | B8: =SUMIFS(Facturas!$G$2:$G$407,Facturas!$A$2:$A$407,">="&DATE(2026,5,1),Facturas!$A$2:$A$407,"<"&DATE(2026,6,1))
A9: Junio | B9: =SUMIFS(Facturas!$G$2:$G$407,Facturas!$A$2:$A$407,">="&DATE(2026,6,1),Facturas!$A$2:$A$407,"<"&DATE(2026,7,1))
A10: Julio | B10: =SUMIFS(Facturas!$G$2:$G$407,Facturas!$A$2:$A$407,">="&DATE(2026,7,1),Facturas!$A$2:$A$407,"<"&DATE(2026,8,1))
A11: Agosto | B11: =SUMIFS(Facturas!$G$2:$G$407,Facturas!$A$2:$A$407,">="&DATE(2026,8,1),Facturas!$A$2:$A$407,"<"&DATE(2026,9,1))
A13: Total por vendedor y mes
A14: Vendedor | B14: Enero | C14: Febrero | D14: Marzo | E14: Abril | F14: Mayo | G14: Junio | H14: Julio | I14: Agosto
A15: Camila Ruiz | B15: =SUMIFS(Facturas!$G$2:$G$407,Facturas!$C$2:$C$407,$A15,Facturas!$A$2:$A$407,">="&DATE(2026,1,1),Facturas!$A$2:$A$407,"<"&DATE(2026,2,1)) | C15: =SUMIFS(Facturas!$G$2:$G$407,Facturas!$C$2:$C$407,$A15,Facturas!$A$2:$A$407,">="&DATE(2026,2,1),Facturas!$A$2:$A$407,"<"&DATE(2026,3,1)) | D15: =SUMIFS(Facturas!$G$2:$G$407,Facturas!$C$2:$C$407,$A15,Facturas!$A$2:$A$407,">="&DATE(2026,3,1),Facturas!$A$2:$A$407,"<"&DATE(2026,4,1)) | E15: =SUMIFS(Facturas!$G$2:$G$407,Facturas!$C$2:$C$407,$A15,Facturas!$A$2:$A$407,">="&DATE(2026,4,1),Facturas!$A$2:$A$407,"<"&DATE(2026,5,1)) | F15: =SUMIFS(Facturas!$G$2:$G$407,Facturas!$C$2:$C$407,$A15,Facturas!$A$2:$A$407,">="&DATE(2026,5,1),Facturas!$A$2:$A$407,"<"&DATE(2026,6,1)) | G15: =SUMIFS(Facturas!$G$2:$G$407,Facturas!$C$2:$C$407,$A15,Facturas!$A$2:$A$407,">="&DATE(2026,6,1),Facturas!$A$2:$A$407,"<"&DATE(2026,7,1)) | H15: =SUMIFS(Facturas!$G$2:$G$407,Facturas!$C$2:$C$407,$A15,Facturas!$A$2:$A$407,">="&DATE(2026,7,1),Facturas!$A$2:$A$407,"<"&DATE(2026,8,1)) | I15: =SUMIFS(Facturas!$G$2:$G$407,Facturas!$C$2:$C$407,$A15,Facturas!$A$2:$A$407,">="&DATE(2026,8,1),Facturas!$A$2:$A$407,"<"&DATE(2026,9,1))
A16: Julián Pérez | B16: =SUMIFS(Facturas!$G$2:$G$407,Facturas!$C$2:$C$407,$A16,Facturas!$A$2:$A$407,">="&DATE(2026,1,1),Facturas!$A$2:$A$407,"<"&DATE(2026,2,1)) | C16: =SUMIFS(Facturas!$G$2:$G$407,Facturas!$C$2:$C$407,$A16,Facturas!$A$2:$A$407,">="&DATE(2026,2,1),Facturas!$A$2:$A$407,"<"&DATE(2026,3,1)) | D16: =SUMIFS(Facturas!$G$2:$G$407,Facturas!$C$2:$C$407,$A16,Facturas!$A$2:$A$407,">="&DATE(2026,3,1),Facturas!$A$2:$A$407,"<"&DATE(2026,4,1)) | E16: =SUMIFS(Facturas!$G$2:$G$407,Facturas!$C$2:$C$407,$A16,Facturas!$A$2:$A$407,">="&DATE(2026,4,1),Facturas!$A$2:$A$407,"<"&DATE(2026,5,1)) | F16: =SUMIFS(Facturas!$G$2:$G$407,Facturas!$C$2:$C$407,$A16,Facturas!$A$2:$A$407,">="&DATE(2026,5,1),Facturas!$A$2:$A$407,"<"&DATE(2026,6,1)) | G16: =SUMIFS(Facturas!$G$2:$G$407,Facturas!$C$2:$C$407,$A16,Facturas!$A$2:$A$407,">="&DATE(2026,6,1),Facturas!$A$2:$A$407,"<"&DATE(2026,7,1)) | H16: =SUMIFS(Facturas!$G$2:$G$407,Facturas!$C$2:$C$407,$A16,Facturas!$A$2:$A$407,">="&DATE(2026,7,1),Facturas!$A$2:$A$407,"<"&DATE(2026,8,1)) | I16: =SUMIFS(Facturas!$G$2:$G$407,Facturas!$C$2:$C$407,$A16,Facturas!$A$2:$A$407,">="&DATE(2026,8,1),Facturas!$A$2:$A$407,"<"&DATE(2026,9,1))
A17: Daniela Gómez | B17: =SUMIFS(Facturas!$G$2:$G$407,Facturas!$C$2:$C$407,$A17,Facturas!$A$2:$A$407,">="&DATE(2026,1,1),Facturas!$A$2:$A$407,"<"&DATE(2026,2,1)) | C17: =SUMIFS(Facturas!$G$2:$G$407,Facturas!$C$2:$C$407,$A17,Facturas!$A$2:$A$407,">="&DATE(2026,2,1),Facturas!$A$2:$A$407,"<"&DATE(2026,3,1)) | D17: =SUMIFS(Facturas!$G$2:$G$407,Facturas!$C$2:$C$407,$A17,Facturas!$A$2:$A$407,">="&DATE(2026,3,1),Facturas!$A$2:$A$407,"<"&DATE(2026,4,1)) | E17: =SUMIFS(Facturas!$G$2:$G$407,Facturas!$C$2:$C$407,$A17,Facturas!$A$2:$A$407,">="&DATE(2026,4,1),Facturas!$A$2:$A$407,"<"&DATE(2026,5,1)) | F17: =SUMIFS(Facturas!$G$2:$G$407,Facturas!$C$2:$C$407,$A17,Facturas!$A$2:$A$407,">="&DATE(2026,5,1),Facturas!$A$2:$A$407,"<"&DATE(2026,6,1)) | G17: =SUMIFS(Facturas!$G$2:$G$407,Facturas!$C$2:$C$407,$A17,Facturas!$A$2:$A$407,">="&DATE(2026,6,1),Facturas!$A$2:$A$407,"<"&DATE(2026,7,1)) | H17: =SUMIFS(Facturas!$G$2:$G$407,Facturas!$C$2:$C$407,$A17,Facturas!$A$2:$A$407,">="&DATE(2026,7,1),Facturas!$A$2:$A$407,"<"&DATE(2026,8,1)) | I17: =SUMIFS(Facturas!$G$2:$G$407,Facturas!$C$2:$C$407,$A17,Facturas!$A$2:$A$407,">="&DATE(2026,8,1),Facturas!$A$2:$A$407,"<"&DATE(2026,9,1))
A18: Santiago Vélez | B18: =SUMIFS(Facturas!$G$2:$G$407,Facturas!$C$2:$C$407,$A18,Facturas!$A$2:$A$407,">="&DATE(2026,1,1),Facturas!$A$2:$A$407,"<"&DATE(2026,2,1)) | C18: =SUMIFS(Facturas!$G$2:$G$407,Facturas!$C$2:$C$407,$A18,Facturas!$A$2:$A$407,">="&DATE(2026,2,1),Facturas!$A$2:$A$407,"<"&DATE(2026,3,1)) | D18: =SUMIFS(Facturas!$G$2:$G$407,Facturas!$C$2:$C$407,$A18,Facturas!$A$2:$A$407,">="&DATE(2026,3,1),Facturas!$A$2:$A$407,"<"&DATE(2026,4,1)) | E18: =SUMIFS(Facturas!$G$2:$G$407,Facturas!$C$2:$C$407,$A18,Facturas!$A$2:$A$407,">="&DATE(2026,4,1),Facturas!$A$2:$A$407,"<"&DATE(2026,5,1)) | F18: =SUMIFS(Facturas!$G$2:$G$407,Facturas!$C$2:$C$407,$A18,Facturas!$A$2:$A$407,">="&DATE(2026,5,1),Facturas!$A$2:$A$407,"<"&DATE(2026,6,1)) | G18: =SUMIFS(Facturas!$G$2:$G$407,Facturas!$C$2:$C$407,$A18,Facturas!$A$2:$A$407,">="&DATE(2026,6,1),Facturas!$A$2:$A$407,"<"&DATE(2026,7,1)) | H18: =SUMIFS(Facturas!$G$2:$G$407,Facturas!$C$2:$C$407,$A18,Facturas!$A$2:$A$407,">="&DATE(2026,7,1),Facturas!$A$2:$A$407,"<"&DATE(2026,8,1)) | I18: =SUMIFS(Facturas!$G$2:$G$407,Facturas!$C$2:$C$407,$A18,Facturas!$A$2:$A$407,">="&DATE(2026,8,1),Facturas!$A$2:$A$407,"<"&DATE(2026,9,1))
